Package: GWAS.BAYES Version: 1.14.0 Command: rm -rf GWAS.BAYES.buildbin-libdir && mkdir GWAS.BAYES.buildbin-libdir && F:\biocbuild\bbs-3.19-bioc\R\bin\R.exe CMD INSTALL --build --library=GWAS.BAYES.buildbin-libdir GWAS.BAYES_1.14.0.tar.gz StartedAt: 2024-06-27 08:20:01 -0400 (Thu, 27 Jun 2024) EndedAt: 2024-06-27 08:20:19 -0400 (Thu, 27 Jun 2024) EllapsedTime: 18.0 seconds RetCode: 0 Status: OK PackageFile: GWAS.BAYES_1.14.0.zip PackageFileSize: 2.009 MiB