Package: GWAS.BAYES Version: 1.14.0 Command: /Library/Frameworks/R.framework/Resources/bin/R CMD INSTALL GWAS.BAYES StartedAt: 2024-06-09 15:35:53 -0400 (Sun, 09 Jun 2024) EndedAt: 2024-06-09 15:36:03 -0400 (Sun, 09 Jun 2024) EllapsedTime: 9.9 seconds RetCode: 0 Status: OK