Package: GWAS.BAYES Version: 1.14.0 Command: rm -rf GWAS.BAYES.buildbin-libdir && mkdir GWAS.BAYES.buildbin-libdir && /Users/biocbuild/BBS/utils/build-universal.sh GWAS.BAYES_1.14.0.tar.gz /Library/Frameworks/R.framework/Resources/bin/R GWAS.BAYES.buildbin-libdir StartedAt: 2024-06-10 00:21:38 -0400 (Mon, 10 Jun 2024) EndedAt: 2024-06-10 00:21:50 -0400 (Mon, 10 Jun 2024) EllapsedTime: 12.4 seconds RetCode: 0 Status: OK PackageFile: GWAS.BAYES_1.14.0.tgz PackageFileSize: 1.968 MiB