Package: GWAS.BAYES Version: 1.14.0 Command: /home/biocbuild/R/R-beta-2024-04-15_r86425/bin/R CMD INSTALL GWAS.BAYES StartedAt: 2024-05-08 20:54:58 -0000 (Wed, 08 May 2024) EndedAt: 2024-05-08 20:55:06 -0000 (Wed, 08 May 2024) EllapsedTime: 7.8 seconds RetCode: 0 Status: OK