Package: GWAS.BAYES Version: 1.14.0 Command: /home/biocbuild/R/R-beta-2024-04-15_r86425/bin/R CMD check --install=check:GWAS.BAYES.install-out.txt --library=/home/biocbuild/R/R-beta-2024-04-15_r86425/site-library --no-vignettes --timings GWAS.BAYES_1.14.0.tar.gz StartedAt: 2024-05-09 08:12:16 -0000 (Thu, 09 May 2024) EndedAt: 2024-05-09 08:13:49 -0000 (Thu, 09 May 2024) EllapsedTime: 93.2 seconds RetCode: 0 Status: OK CheckDir: GWAS.BAYES.Rcheck Warnings: 0