Package: GWAS.BAYES Version: 1.14.0 Command: /Library/Frameworks/R.framework/Resources/bin/R CMD check --install=check:GWAS.BAYES.install-out.txt --library=/Library/Frameworks/R.framework/Resources/library --no-vignettes --timings GWAS.BAYES_1.14.0.tar.gz StartedAt: 2024-06-10 18:07:02 -0400 (Mon, 10 Jun 2024) EndedAt: 2024-06-10 18:09:12 -0400 (Mon, 10 Jun 2024) EllapsedTime: 130.5 seconds RetCode: 0 Status: OK CheckDir: GWAS.BAYES.Rcheck Warnings: 0