Package: GWAS.BAYES Version: 1.14.0 Command: /Library/Frameworks/R.framework/Resources/bin/R CMD build --keep-empty-dirs --no-resave-data GWAS.BAYES StartedAt: 2024-10-17 02:04:52 -0400 (Thu, 17 Oct 2024) EndedAt: 2024-10-17 02:08:35 -0400 (Thu, 17 Oct 2024) EllapsedTime: 223.3 seconds RetCode: 0 Status: OK PackageFile: GWAS.BAYES_1.14.0.tar.gz PackageFileSize: 1.346 MiB