Package: GWAS.BAYES Version: 1.14.0 Command: rm -rf GWAS.BAYES.buildbin-libdir && mkdir GWAS.BAYES.buildbin-libdir && /Users/biocbuild/BBS/utils/build-universal.sh GWAS.BAYES_1.14.0.tar.gz /Library/Frameworks/R.framework/Resources/bin/R GWAS.BAYES.buildbin-libdir StartedAt: 2024-10-18 18:51:55 -0400 (Fri, 18 Oct 2024) EndedAt: 2024-10-18 18:52:06 -0400 (Fri, 18 Oct 2024) EllapsedTime: 11.3 seconds RetCode: 0 Status: OK PackageFile: GWAS.BAYES_1.14.0.tgz PackageFileSize: 1.969 MiB