Package: GWAS.BAYES Version: 1.14.0 Maintainer: Jacob Williams MaintainerEmail: jwilliams at vt.edu git_url: https://git.bioconductor.org/packages/GWAS.BAYES git_branch: RELEASE_3_19 git_last_commit: 4f08f9e git_last_commit_date: 2024-04-30 11:29:11 -0400 (Tue, 30 Apr 2024)