Package: GUIDEseq Version: 1.34.0 Command: E:\biocbuild\bbs-3.19-bioc\R\bin\R.exe CMD INSTALL GUIDEseq StartedAt: 2024-10-16 17:16:19 -0400 (Wed, 16 Oct 2024) EndedAt: 2024-10-16 17:17:28 -0400 (Wed, 16 Oct 2024) EllapsedTime: 69.5 seconds RetCode: 0 Status: OK