Package: GUIDEseq Version: 1.34.0 Command: chmod a+r GUIDEseq -R && E:\biocbuild\bbs-3.19-bioc\R\bin\R.exe CMD build --keep-empty-dirs --no-resave-data GUIDEseq StartedAt: 2024-10-16 19:36:56 -0400 (Wed, 16 Oct 2024) EndedAt: 2024-10-16 19:39:00 -0400 (Wed, 16 Oct 2024) EllapsedTime: 124.2 seconds RetCode: 0 Status: OK PackageFile: GUIDEseq_1.34.0.tar.gz PackageFileSize: 5.874 MiB