Package: GUIDEseq Version: 1.34.0 Command: rm -rf GUIDEseq.buildbin-libdir && mkdir GUIDEseq.buildbin-libdir && E:\biocbuild\bbs-3.19-bioc\R\bin\R.exe CMD INSTALL --build --library=GUIDEseq.buildbin-libdir GUIDEseq_1.34.0.tar.gz StartedAt: 2024-10-17 07:55:45 -0400 (Thu, 17 Oct 2024) EndedAt: 2024-10-17 07:57:04 -0400 (Thu, 17 Oct 2024) EllapsedTime: 79.3 seconds RetCode: 0 Status: OK PackageFile: GUIDEseq_1.34.0.zip PackageFileSize: 6.066 MiB