Package: GUIDEseq Version: 1.34.0 Command: /home/biocbuild/bbs-3.19-bioc/R/bin/R CMD INSTALL GUIDEseq StartedAt: 2024-10-16 16:42:19 -0400 (Wed, 16 Oct 2024) EndedAt: 2024-10-16 16:43:09 -0400 (Wed, 16 Oct 2024) EllapsedTime: 49.9 seconds RetCode: 0 Status: OK