Package: GUIDEseq Version: 1.34.0 Command: /home/biocbuild/bbs-3.19-bioc/R/bin/R CMD build --keep-empty-dirs --no-resave-data GUIDEseq StartedAt: 2024-10-16 18:52:59 -0400 (Wed, 16 Oct 2024) EndedAt: 2024-10-16 18:54:39 -0400 (Wed, 16 Oct 2024) EllapsedTime: 100.2 seconds RetCode: 0 Status: OK PackageFile: GUIDEseq_1.34.0.tar.gz PackageFileSize: 5.873 MiB