Package: GUIDEseq Version: 1.34.0 Command: /Library/Frameworks/R.framework/Resources/bin/R CMD INSTALL GUIDEseq StartedAt: 2024-10-16 16:42:56 -0400 (Wed, 16 Oct 2024) EndedAt: 2024-10-16 16:44:54 -0400 (Wed, 16 Oct 2024) EllapsedTime: 118.7 seconds RetCode: 0 Status: OK