Package: GUIDEseq Version: 1.34.0 Command: /Library/Frameworks/R.framework/Resources/bin/R CMD build --keep-empty-dirs --no-resave-data GUIDEseq StartedAt: 2024-10-16 19:51:53 -0400 (Wed, 16 Oct 2024) EndedAt: 2024-10-16 19:55:40 -0400 (Wed, 16 Oct 2024) EllapsedTime: 227.1 seconds RetCode: 0 Status: OK PackageFile: GUIDEseq_1.34.0.tar.gz PackageFileSize: 5.873 MiB