Package: GUIDEseq Version: 1.34.0 Command: rm -rf GUIDEseq.buildbin-libdir && mkdir GUIDEseq.buildbin-libdir && /Users/biocbuild/BBS/utils/build-universal.sh GUIDEseq_1.34.0.tar.gz /Library/Frameworks/R.framework/Resources/bin/R GUIDEseq.buildbin-libdir StartedAt: 2024-06-10 00:21:35 -0400 (Mon, 10 Jun 2024) EndedAt: 2024-06-10 00:22:47 -0400 (Mon, 10 Jun 2024) EllapsedTime: 72.2 seconds RetCode: 0 Status: OK PackageFile: GUIDEseq_1.34.0.tgz PackageFileSize: 6.094 MiB