Package: GSgalgoR Version: 1.14.0 Command: E:\biocbuild\bbs-3.19-bioc\R\bin\R.exe CMD INSTALL GSgalgoR StartedAt: 2024-10-16 16:55:09 -0400 (Wed, 16 Oct 2024) EndedAt: 2024-10-16 16:55:22 -0400 (Wed, 16 Oct 2024) EllapsedTime: 12.6 seconds RetCode: 0 Status: OK