Package: GSgalgoR Version: 1.14.0 Command: chmod a+r GSgalgoR -R && E:\biocbuild\bbs-3.19-bioc\R\bin\R.exe CMD build --keep-empty-dirs --no-resave-data GSgalgoR StartedAt: 2024-10-16 19:36:00 -0400 (Wed, 16 Oct 2024) EndedAt: 2024-10-16 19:37:53 -0400 (Wed, 16 Oct 2024) EllapsedTime: 112.7 seconds RetCode: 0 Status: OK PackageFile: GSgalgoR_1.14.0.tar.gz PackageFileSize: 2.217 MiB