Package: GSgalgoR Version: 1.14.0 Command: rm -rf GSgalgoR.buildbin-libdir && mkdir GSgalgoR.buildbin-libdir && E:\biocbuild\bbs-3.19-bioc\R\bin\R.exe CMD INSTALL --build --library=GSgalgoR.buildbin-libdir GSgalgoR_1.14.0.tar.gz StartedAt: 2024-10-17 07:55:35 -0400 (Thu, 17 Oct 2024) EndedAt: 2024-10-17 07:56:01 -0400 (Thu, 17 Oct 2024) EllapsedTime: 26.4 seconds RetCode: 0 Status: OK PackageFile: GSgalgoR_1.14.0.zip PackageFileSize: 2.283 MiB