Package: GSgalgoR Version: 1.14.0 Command: chmod a+r GSgalgoR -R && F:\biocbuild\bbs-3.19-bioc\R\bin\R.exe CMD build --keep-empty-dirs --no-resave-data GSgalgoR StartedAt: 2024-06-26 19:22:56 -0400 (Wed, 26 Jun 2024) EndedAt: 2024-06-26 19:24:52 -0400 (Wed, 26 Jun 2024) EllapsedTime: 116.0 seconds RetCode: 0 Status: OK PackageFile: GSgalgoR_1.14.0.tar.gz PackageFileSize: 2.152 MiB