Package: GSgalgoR Version: 1.14.0 Command: /Library/Frameworks/R.framework/Resources/bin/R CMD build --keep-empty-dirs --no-resave-data GSgalgoR StartedAt: 2024-10-16 19:50:29 -0400 (Wed, 16 Oct 2024) EndedAt: 2024-10-16 19:53:19 -0400 (Wed, 16 Oct 2024) EllapsedTime: 170.4 seconds RetCode: 0 Status: OK PackageFile: GSgalgoR_1.14.0.tar.gz PackageFileSize: 2.739 MiB