Package: GSgalgoR Version: 1.14.0 Command: /Library/Frameworks/R.framework/Resources/bin/R CMD check --install=check:GSgalgoR.install-out.txt --library=/Library/Frameworks/R.framework/Resources/library --no-vignettes --timings GSgalgoR_1.14.0.tar.gz StartedAt: 2024-06-09 20:47:02 -0400 (Sun, 09 Jun 2024) EndedAt: 2024-06-09 20:50:39 -0400 (Sun, 09 Jun 2024) EllapsedTime: 216.6 seconds RetCode: 0 Status: OK CheckDir: GSgalgoR.Rcheck Warnings: 0