Package: GSgalgoR Version: 1.14.0 Command: /Library/Frameworks/R.framework/Resources/bin/R CMD build --keep-empty-dirs --no-resave-data GSgalgoR StartedAt: 2024-06-09 16:53:04 -0400 (Sun, 09 Jun 2024) EndedAt: 2024-06-09 16:54:51 -0400 (Sun, 09 Jun 2024) EllapsedTime: 107.0 seconds RetCode: 0 Status: OK PackageFile: GSgalgoR_1.14.0.tar.gz PackageFileSize: 2.726 MiB