Package: GSgalgoR Version: 1.14.0 Command: rm -rf GSgalgoR.buildbin-libdir && mkdir GSgalgoR.buildbin-libdir && /Users/biocbuild/BBS/utils/build-universal.sh GSgalgoR_1.14.0.tar.gz /Library/Frameworks/R.framework/Resources/bin/R GSgalgoR.buildbin-libdir StartedAt: 2024-06-10 00:21:33 -0400 (Mon, 10 Jun 2024) EndedAt: 2024-06-10 00:21:40 -0400 (Mon, 10 Jun 2024) EllapsedTime: 6.9 seconds RetCode: 0 Status: OK PackageFile: GSgalgoR_1.14.0.tgz PackageFileSize: 2.777 MiB