Package: GSVA Version: 1.52.3 Command: F:\biocbuild\bbs-3.19-bioc\R\bin\R.exe CMD INSTALL GSVA StartedAt: 2024-06-26 16:42:23 -0400 (Wed, 26 Jun 2024) EndedAt: 2024-06-26 16:43:18 -0400 (Wed, 26 Jun 2024) EllapsedTime: 54.9 seconds RetCode: 0 Status: OK