Package: GSVA Version: 1.52.3 Command: rm -rf GSVA.buildbin-libdir && mkdir GSVA.buildbin-libdir && F:\biocbuild\bbs-3.19-bioc\R\bin\R.exe CMD INSTALL --build --library=GSVA.buildbin-libdir GSVA_1.52.3.tar.gz StartedAt: 2024-06-27 08:19:53 -0400 (Thu, 27 Jun 2024) EndedAt: 2024-06-27 08:20:50 -0400 (Thu, 27 Jun 2024) EllapsedTime: 57.1 seconds RetCode: 0 Status: OK PackageFile: GSVA_1.52.3.zip PackageFileSize: 1.881 MiB