Package: GSVA Version: 1.52.3 Command: /home/biocbuild/bbs-3.19-bioc/R/bin/R CMD check --install=check:GSVA.install-out.txt --library=/home/biocbuild/bbs-3.19-bioc/R/site-library --timings GSVA_1.52.3.tar.gz StartedAt: 2024-10-17 01:12:11 -0400 (Thu, 17 Oct 2024) EndedAt: 2024-10-17 01:24:21 -0400 (Thu, 17 Oct 2024) EllapsedTime: 730.5 seconds RetCode: 0 Status: OK CheckDir: GSVA.Rcheck Warnings: 0