Package: GSVA Version: 1.52.3 Command: /Library/Frameworks/R.framework/Resources/bin/R CMD INSTALL GSVA StartedAt: 2024-10-16 16:34:29 -0400 (Wed, 16 Oct 2024) EndedAt: 2024-10-16 16:35:56 -0400 (Wed, 16 Oct 2024) EllapsedTime: 86.2 seconds RetCode: 0 Status: OK