Package: GSVA Version: 1.52.3 Command: /Library/Frameworks/R.framework/Resources/bin/R CMD check --install=check:GSVA.install-out.txt --library=/Library/Frameworks/R.framework/Resources/library --no-vignettes --timings GSVA_1.52.3.tar.gz StartedAt: 2024-10-18 00:04:54 -0400 (Fri, 18 Oct 2024) EndedAt: 2024-10-18 00:15:13 -0400 (Fri, 18 Oct 2024) EllapsedTime: 618.9 seconds RetCode: 0 Status: OK CheckDir: GSVA.Rcheck Warnings: 0