Package: GSVA Version: 1.52.3 Command: rm -rf GSVA.buildbin-libdir && mkdir GSVA.buildbin-libdir && /Users/biocbuild/BBS/utils/build-universal.sh GSVA_1.52.3.tar.gz /Library/Frameworks/R.framework/Resources/bin/R GSVA.buildbin-libdir StartedAt: 2024-10-18 18:51:00 -0400 (Fri, 18 Oct 2024) EndedAt: 2024-10-18 18:51:55 -0400 (Fri, 18 Oct 2024) EllapsedTime: 54.9 seconds RetCode: 0 Status: OK PackageFile: GSVA_1.52.3.tgz PackageFileSize: 2.11 MiB