Package: GSReg Version: 1.38.0 Command: chmod a+r GSReg -R && F:\biocbuild\bbs-3.19-bioc\R\bin\R.exe CMD build --keep-empty-dirs --no-resave-data GSReg StartedAt: 2024-06-26 19:23:16 -0400 (Wed, 26 Jun 2024) EndedAt: 2024-06-26 19:25:12 -0400 (Wed, 26 Jun 2024) EllapsedTime: 116.1 seconds RetCode: 0 Status: OK PackageFile: GSReg_1.38.0.tar.gz PackageFileSize: 466.9 KiB