Package: GSReg Version: 1.38.0 Command: rm -rf GSReg.buildbin-libdir && mkdir GSReg.buildbin-libdir && /Users/biocbuild/BBS/utils/build-universal.sh GSReg_1.38.0.tar.gz /Library/Frameworks/R.framework/Resources/bin/R GSReg.buildbin-libdir StartedAt: 2024-10-17 16:19:33 -0400 (Thu, 17 Oct 2024) EndedAt: 2024-10-17 16:21:10 -0400 (Thu, 17 Oct 2024) EllapsedTime: 97.4 seconds RetCode: 0 Status: OK PackageFile: GSReg_1.38.0.tgz PackageFileSize: 380.6 KiB