Package: GSReg Version: 1.38.0 Command: /Library/Frameworks/R.framework/Resources/bin/R CMD check --install=check:GSReg.install-out.txt --library=/Library/Frameworks/R.framework/Resources/library --no-vignettes --timings GSReg_1.38.0.tar.gz StartedAt: 2024-10-18 00:03:28 -0400 (Fri, 18 Oct 2024) EndedAt: 2024-10-18 00:06:40 -0400 (Fri, 18 Oct 2024) EllapsedTime: 191.9 seconds RetCode: 0 Status: WARNINGS CheckDir: GSReg.Rcheck Warnings: 3