Package: GSReg Version: 1.38.0 Command: /Library/Frameworks/R.framework/Resources/bin/R CMD build --keep-empty-dirs --no-resave-data GSReg StartedAt: 2024-10-17 02:00:29 -0400 (Thu, 17 Oct 2024) EndedAt: 2024-10-17 02:02:21 -0400 (Thu, 17 Oct 2024) EllapsedTime: 111.8 seconds RetCode: 0 Status: OK PackageFile: GSReg_1.38.0.tar.gz PackageFileSize: 466.2 KiB