Package: GSRI Version: 2.52.0 Command: E:\biocbuild\bbs-3.19-bioc\R\bin\R.exe CMD INSTALL GSRI StartedAt: 2024-10-16 16:56:36 -0400 (Wed, 16 Oct 2024) EndedAt: 2024-10-16 16:57:04 -0400 (Wed, 16 Oct 2024) EllapsedTime: 28.1 seconds RetCode: 0 Status: OK