Package: GSRI Version: 2.52.0 Command: rm -rf GSRI.buildbin-libdir && mkdir GSRI.buildbin-libdir && E:\biocbuild\bbs-3.19-bioc\R\bin\R.exe CMD INSTALL --build --library=GSRI.buildbin-libdir GSRI_2.52.0.tar.gz StartedAt: 2024-10-17 07:55:38 -0400 (Thu, 17 Oct 2024) EndedAt: 2024-10-17 07:56:17 -0400 (Thu, 17 Oct 2024) EllapsedTime: 39.1 seconds RetCode: 0 Status: OK PackageFile: GSRI_2.52.0.zip PackageFileSize: 541.2 KiB