Package: GSRI Version: 2.52.0 Command: chmod a+r GSRI -R && F:\biocbuild\bbs-3.19-bioc\R\bin\R.exe CMD build --keep-empty-dirs --no-resave-data GSRI StartedAt: 2024-06-26 19:23:19 -0400 (Wed, 26 Jun 2024) EndedAt: 2024-06-26 19:24:17 -0400 (Wed, 26 Jun 2024) EllapsedTime: 58.1 seconds RetCode: 0 Status: OK PackageFile: GSRI_2.52.0.tar.gz PackageFileSize: 207.6 KiB