Package: GSRI Version: 2.52.0 Command: /Library/Frameworks/R.framework/Resources/bin/R CMD check --install=check:GSRI.install-out.txt --library=/Library/Frameworks/R.framework/Resources/library --no-vignettes --timings GSRI_2.52.0.tar.gz StartedAt: 2024-10-18 00:03:50 -0400 (Fri, 18 Oct 2024) EndedAt: 2024-10-18 00:06:46 -0400 (Fri, 18 Oct 2024) EllapsedTime: 176.4 seconds RetCode: 0 Status: OK CheckDir: GSRI.Rcheck Warnings: 0