Package: GSRI Version: 2.52.0 Command: /Library/Frameworks/R.framework/Resources/bin/R CMD build --keep-empty-dirs --no-resave-data GSRI StartedAt: 2024-10-17 02:00:58 -0400 (Thu, 17 Oct 2024) EndedAt: 2024-10-17 02:01:52 -0400 (Thu, 17 Oct 2024) EllapsedTime: 53.3 seconds RetCode: 0 Status: OK PackageFile: GSRI_2.52.0.tar.gz PackageFileSize: 339.3 KiB