Package: GSRI Version: 2.52.0 Command: rm -rf GSRI.buildbin-libdir && mkdir GSRI.buildbin-libdir && /Users/biocbuild/BBS/utils/build-universal.sh GSRI_2.52.0.tar.gz /Library/Frameworks/R.framework/Resources/bin/R GSRI.buildbin-libdir StartedAt: 2024-10-18 18:50:56 -0400 (Fri, 18 Oct 2024) EndedAt: 2024-10-18 18:51:26 -0400 (Fri, 18 Oct 2024) EllapsedTime: 29.7 seconds RetCode: 0 Status: OK PackageFile: GSRI_2.52.0.tgz PackageFileSize: 663 KiB