Package: GSEAmining Version: 1.14.0 Command: E:\biocbuild\bbs-3.19-bioc\R\bin\R.exe CMD INSTALL GSEAmining StartedAt: 2024-10-16 16:09:56 -0400 (Wed, 16 Oct 2024) EndedAt: 2024-10-16 16:10:09 -0400 (Wed, 16 Oct 2024) EllapsedTime: 13.5 seconds RetCode: 0 Status: OK