Package: GSEAmining Version: 1.14.0 Command: chmod a+r GSEAmining -R && E:\biocbuild\bbs-3.19-bioc\R\bin\R.exe CMD build --keep-empty-dirs --no-resave-data GSEAmining StartedAt: 2024-10-16 19:35:37 -0400 (Wed, 16 Oct 2024) EndedAt: 2024-10-16 19:37:11 -0400 (Wed, 16 Oct 2024) EllapsedTime: 94.4 seconds RetCode: 0 Status: OK PackageFile: GSEAmining_1.14.0.tar.gz PackageFileSize: 1.982 MiB