Package: GSEAmining Version: 1.14.0 Command: chmod a+r GSEAmining -R && F:\biocbuild\bbs-3.19-bioc\R\bin\R.exe CMD build --keep-empty-dirs --no-resave-data GSEAmining StartedAt: 2024-06-26 19:22:23 -0400 (Wed, 26 Jun 2024) EndedAt: 2024-06-26 19:24:04 -0400 (Wed, 26 Jun 2024) EllapsedTime: 100.6 seconds RetCode: 0 Status: OK PackageFile: GSEAmining_1.14.0.tar.gz PackageFileSize: 1.981 MiB