Package: GSEAmining Version: 1.14.0 Command: /home/biocbuild/bbs-3.19-bioc/R/bin/R CMD check --install=check:GSEAmining.install-out.txt --library=/home/biocbuild/bbs-3.19-bioc/R/site-library --timings GSEAmining_1.14.0.tar.gz StartedAt: 2024-10-17 01:10:47 -0400 (Thu, 17 Oct 2024) EndedAt: 2024-10-17 01:12:47 -0400 (Thu, 17 Oct 2024) EllapsedTime: 120.2 seconds RetCode: 0 Status: OK CheckDir: GSEAmining.Rcheck Warnings: 0