Package: GSEAmining Version: 1.14.0 Command: /Library/Frameworks/R.framework/Resources/bin/R CMD build --keep-empty-dirs --no-resave-data GSEAmining StartedAt: 2024-10-16 19:50:02 -0400 (Wed, 16 Oct 2024) EndedAt: 2024-10-16 19:51:53 -0400 (Wed, 16 Oct 2024) EllapsedTime: 110.8 seconds RetCode: 0 Status: OK PackageFile: GSEAmining_1.14.0.tar.gz PackageFileSize: 2.84 MiB