Package: GSEAmining Version: 1.14.0 Command: /Library/Frameworks/R.framework/Resources/bin/R CMD check --install=check:GSEAmining.install-out.txt --library=/Library/Frameworks/R.framework/Resources/library --no-vignettes --timings GSEAmining_1.14.0.tar.gz StartedAt: 2024-06-09 20:46:56 -0400 (Sun, 09 Jun 2024) EndedAt: 2024-06-09 20:48:41 -0400 (Sun, 09 Jun 2024) EllapsedTime: 104.6 seconds RetCode: 0 Status: OK CheckDir: GSEAmining.Rcheck Warnings: 0