Package: GSEAmining Version: 1.14.0 Command: /home/biocbuild/R/R-beta-2024-04-15_r86425/bin/R CMD check --install=check:GSEAmining.install-out.txt --library=/home/biocbuild/R/R-beta-2024-04-15_r86425/site-library --no-vignettes --timings GSEAmining_1.14.0.tar.gz StartedAt: 2024-05-09 08:08:59 -0000 (Thu, 09 May 2024) EndedAt: 2024-05-09 08:10:39 -0000 (Thu, 09 May 2024) EllapsedTime: 99.1 seconds RetCode: 0 Status: OK CheckDir: GSEAmining.Rcheck Warnings: 0