Package: GSEAmining Version: 1.14.0 Command: /home/biocbuild/R/R-beta-2024-04-15_r86425/bin/R CMD build --keep-empty-dirs --no-resave-data GSEAmining StartedAt: 2024-05-09 00:49:34 -0000 (Thu, 09 May 2024) EndedAt: 2024-05-09 00:50:38 -0000 (Thu, 09 May 2024) EllapsedTime: 64.1 seconds RetCode: 0 Status: OK PackageFile: GSEAmining_1.14.0.tar.gz PackageFileSize: 2.034 MiB