Package: GSEAmining Version: 1.14.0 Command: /Library/Frameworks/R.framework/Resources/bin/R CMD check --install=check:GSEAmining.install-out.txt --library=/Library/Frameworks/R.framework/Resources/library --no-vignettes --timings GSEAmining_1.14.0.tar.gz StartedAt: 2024-06-10 17:59:18 -0400 (Mon, 10 Jun 2024) EndedAt: 2024-06-10 18:02:14 -0400 (Mon, 10 Jun 2024) EllapsedTime: 175.4 seconds RetCode: 0 Status: OK CheckDir: GSEAmining.Rcheck Warnings: 0